BEGIN:VCALENDAR
VERSION:2.0
PRODID:-//Glenvista Baptist Church - ECPv6.3.2//NONSGML v1.0//EN
CALSCALE:GREGORIAN
METHOD:PUBLISH
X-WR-CALNAME:Glenvista Baptist Church
X-ORIGINAL-URL:https://glenvistabaptist.co.za
X-WR-CALDESC:Events for Glenvista Baptist Church
REFRESH-INTERVAL;VALUE=DURATION:PT1H
X-Robots-Tag:noindex
X-PUBLISHED-TTL:PT1H
BEGIN:VTIMEZONE
TZID:Europe/Helsinki
BEGIN:DAYLIGHT
TZOFFSETFROM:+0200
TZOFFSETTO:+0300
TZNAME:EEST
DTSTART:20190331T010000
END:DAYLIGHT
BEGIN:STANDARD
TZOFFSETFROM:+0300
TZOFFSETTO:+0200
TZNAME:EET
DTSTART:20191027T010000
END:STANDARD
END:VTIMEZONE
BEGIN:VEVENT
DTSTART;TZID=Europe/Helsinki:20190409T190000
DTEND;TZID=Europe/Helsinki:20190409T210000
DTSTAMP:20260423T232755
CREATED:20190223T122704Z
LAST-MODIFIED:20190223T123535Z
UID:1139-1554836400-1554843600@glenvistabaptist.co.za
SUMMARY:Annual General Meeting 2019
DESCRIPTION:Kindly make a note that the\nwill be held at the church on Tuesday 9 April 2019\,\ncommencing at 19h00.
URL:https://glenvistabaptist.co.za/event/annual-general-meeting-2019/
LOCATION:Glenvista Baptist Church\, 17 Vallot Street\, Glenvista\, Johannesburg\, Gauteng\, 2091\, South Africa
ATTACH;FMTTYPE=image/jpeg:https://glenvistabaptist.co.za/wp-content/uploads/2019/02/GBC-Web-Banner-Batch-2-Option-1-1600x800.jpg
ORGANIZER;CN="Glenvista Baptist Church":MAILTO:office@glenvistabaptist.co.za
END:VEVENT
END:VCALENDAR